BEGIN:VCALENDAR
VERSION:2.0
CALSCALE:GREGORIAN
PRODID:-//Diputació de Barcelona//DibaCMS//EN
BEGIN:VEVENT
UID:14865
DTSTAMP:20260423T104430
DTSTART:20220514T000000
DTEND:20220605T000000
SUMMARY:NYS Polígon Arts: Refrescant idees
LOCATION:Can Pedrerol de Dalt 08755 Castellbisbal
METHOD:PUBLISH
X-WR-CALNAME:comunicacio@castellbisbal.cat
X-WR-TIMEZONE:Europe/Madrid
DESCRIPTION:A Can Pedrerol de Dalt

URI:https://www.castellbisbal.cat/actualitat/agenda/nys-poligon-arts-refrescant-idees.html
CLASS:PUBLIC
END:VEVENT
END:VCALENDAR
