BEGIN:VCALENDAR
VERSION:2.0
CALSCALE:GREGORIAN
PRODID:-//Diputació de Barcelona//DibaCMS//EN
BEGIN:VEVENT
UID:14866
DTSTAMP:20260423T064156
DTSTART:20220514T000000
DTEND:20220605T000000
SUMMARY:NYS Polígon Arts: Teixint xarxes
LOCATION:
METHOD:PUBLISH
X-WR-CALNAME:comunicacio@castellbisbal.cat
X-WR-TIMEZONE:Europe/Madrid
DESCRIPTION:A la zona verda del carrer Trepadella

URI:https://www.castellbisbal.cat/actualitat/agenda/nys-poligon-arts-teixint-xarxes.html
CLASS:PUBLIC
END:VEVENT
END:VCALENDAR
