BEGIN:VCALENDAR
VERSION:2.0
CALSCALE:GREGORIAN
PRODID:-//Diputació de Barcelona//DibaCMS//EN
BEGIN:VEVENT
UID:14867
DTSTAMP:20260424T001810
DTSTART:20220514T000000
DTEND:20220605T000000
SUMMARY:NYS Polígon Arts: Mural de dibuixos
LOCATION:Av. Can Campanyà, 26 ( Pol. Ind. Comte de Sert ) 08755 Castellbisbal
METHOD:PUBLISH
X-WR-CALNAME:comunicacio@castellbisbal.cat
X-WR-TIMEZONE:Europe/Madrid
DESCRIPTION:A l'empresa Purina

URI:https://www.castellbisbal.cat/actualitat/agenda/nys-poligon-arts-mural-de-dibuixos.html
CLASS:PUBLIC
END:VEVENT
END:VCALENDAR
