BEGIN:VCALENDAR
VERSION:2.0
CALSCALE:GREGORIAN
PRODID:-//Diputació de Barcelona//DibaCMS//EN
BEGIN:VEVENT
UID:14869
DTSTAMP:20260423T143346
DTSTART:20220525T183000
DTEND:20220525T183000
SUMMARY:NYS Polígon Arts: Literatura i indústria. Un Booklife i molts llibres
LOCATION:Av. de Pau Casals, 16 08755 Castellbisbal
METHOD:PUBLISH
X-WR-CALNAME:comunicacio@castellbisbal.cat
X-WR-TIMEZONE:Europe/Madrid
DESCRIPTION:A la Biblioteca Josep Mateu i Miró

URI:https://www.castellbisbal.cat/actualitat/agenda/biblioteca/nys-poligon-arts-literatura-i-industria-un-booklife-i-molts-llibres.html
CLASS:PUBLIC
END:VEVENT
END:VCALENDAR
