BEGIN:VCALENDAR
VERSION:2.0
CALSCALE:GREGORIAN
PRODID:-//Diputació de Barcelona//DibaCMS//EN
BEGIN:VEVENT
UID:14875
DTSTAMP:20260423T154037
DTSTART:20220522T110000
DTEND:20220522T110000
SUMMARY:MercaGini
LOCATION:Carrer Montjuic, 14-20 08755 Castellbisbal
METHOD:PUBLISH
X-WR-CALNAME:comunicacio@castellbisbal.cat
X-WR-TIMEZONE:Europe/Madrid
DESCRIPTION:Al carrer Montjuic, davant del centre cívic de Can Santeugini

URI:https://www.castellbisbal.cat/actualitat/agenda/mercagini.html
CLASS:PUBLIC
END:VEVENT
END:VCALENDAR
