BEGIN:VCALENDAR
VERSION:2.0
CALSCALE:GREGORIAN
PRODID:-//Diputació de Barcelona//DibaCMS//EN
BEGIN:VEVENT
UID:14877
DTSTAMP:20260423T185714
DTSTART:20220517T160000
DTEND:20220517T160000
SUMMARY:Inscripcions Juliol Màgic (presencials)
LOCATION:08755 Castellbisbal
METHOD:PUBLISH
X-WR-CALNAME:comunicacio@castellbisbal.cat
X-WR-TIMEZONE:Europe/Madrid
DESCRIPTION:A Can Margarit

URI:https://www.castellbisbal.cat/actualitat/agenda/14877-inscripcions-juliol-magic-presencials.html
CLASS:PUBLIC
END:VEVENT
END:VCALENDAR
