BEGIN:VCALENDAR
VERSION:2.0
CALSCALE:GREGORIAN
PRODID:-//Diputació de Barcelona//DibaCMS//EN
BEGIN:VEVENT
UID:14879
DTSTAMP:20260423T223309
DTSTART:20220514T000000
DTEND:20220605T000000
SUMMARY:NYS Polígon Arts: El Càntir. Espai de consciència
LOCATION:Zona verda de l'avinguda de Molins de Rei 
METHOD:PUBLISH
X-WR-CALNAME:comunicacio@castellbisbal.cat
X-WR-TIMEZONE:Europe/Madrid
DESCRIPTION:A la zona verda de l'avinguda Molins de Rei

URI:https://www.castellbisbal.cat/actualitat/agenda/nys-poligon-arts-el-cantir-espai-de-consciencia.html
CLASS:PUBLIC
END:VEVENT
END:VCALENDAR
