BEGIN:VCALENDAR
VERSION:2.0
CALSCALE:GREGORIAN
PRODID:-//Diputació de Barcelona//DibaCMS//EN
BEGIN:VEVENT
UID:14880
DTSTAMP:20260423T023022
DTSTART:20220515T190000
DTEND:20220515T190000
SUMMARY:NYS Polígon Arts: El Càntir. Concert de Biel Músic
LOCATION:Zona verda de l'avinguda de Molins de Rei 
METHOD:PUBLISH
X-WR-CALNAME:comunicacio@castellbisbal.cat
X-WR-TIMEZONE:Europe/Madrid
DESCRIPTION:A la zona verda de l'avinguda Molins de Rei

URI:https://www.castellbisbal.cat/actualitat/agenda/nys-poligon-arts-el-cantir-concert-de-biel-music.html
CLASS:PUBLIC
END:VEVENT
END:VCALENDAR
