BEGIN:VCALENDAR
VERSION:2.0
CALSCALE:GREGORIAN
PRODID:-//Diputació de Barcelona//DibaCMS//EN
BEGIN:VEVENT
UID:14882
DTSTAMP:20260423T121935
DTSTART:20220514T200000
DTEND:20220514T200000
SUMMARY:Feria de Abril
LOCATION:08755 Castellbisbal
METHOD:PUBLISH
X-WR-CALNAME:comunicacio@castellbisbal.cat
X-WR-TIMEZONE:Europe/Madrid
DESCRIPTION:13 i 14 de maig, al Casal Cultural i Recreatiu

URI:https://www.castellbisbal.cat/actualitat/agenda/14882-feria-de-abril.html
CLASS:PUBLIC
END:VEVENT
END:VCALENDAR
