BEGIN:VCALENDAR
VERSION:2.0
CALSCALE:GREGORIAN
PRODID:-//Diputació de Barcelona//DibaCMS//EN
BEGIN:VEVENT
UID:14885
DTSTAMP:20260423T185939
DTSTART:20220531T173000
DTEND:20220531T173000
SUMMARY:Escola de Mares i Pares: "I què faig jo per ajudar-los/les?"
LOCATION:
METHOD:PUBLISH
X-WR-CALNAME:comunicacio@castellbisbal.cat
X-WR-TIMEZONE:Europe/Madrid
DESCRIPTION:A través de la plataforma Meet

URI:https://www.castellbisbal.cat/actualitat/agenda/escola-de-mares-i-pares-i-que-faig-jo-per-ajudar-losles.html
CLASS:PUBLIC
END:VEVENT
END:VCALENDAR
