BEGIN:VCALENDAR
VERSION:2.0
CALSCALE:GREGORIAN
PRODID:-//Diputació de Barcelona//DibaCMS//EN
BEGIN:VEVENT
UID:14901
DTSTAMP:20260423T153835
DTSTART:20220604T100000
DTEND:20220604T100000
SUMMARY:Mercat solidari de roba
LOCATION:A la zona verda de l'av. Molins de Rei 
METHOD:PUBLISH
X-WR-CALNAME:comunicacio@castellbisbal.cat
X-WR-TIMEZONE:Europe/Madrid
DESCRIPTION:A l'espai El Càntir (zona verda de l'av. Molins de Rei)

URI:https://www.castellbisbal.cat/actualitat/agenda/mercat-solidari-de-roba.html
CLASS:PUBLIC
END:VEVENT
END:VCALENDAR
