BEGIN:VCALENDAR
VERSION:2.0
CALSCALE:GREGORIAN
PRODID:-//Diputació de Barcelona//DibaCMS//EN
BEGIN:VEVENT
UID:14902
DTSTAMP:20260423T120007
DTSTART:20220528T110000
DTEND:20220528T110000
SUMMARY:El Càntir: Punt de Referència
LOCATION:Zona verda de l'av. Molins de Rei 
METHOD:PUBLISH
X-WR-CALNAME:comunicacio@castellbisbal.cat
X-WR-TIMEZONE:Europe/Madrid
DESCRIPTION:A l'espai El Càntir (zona verda de l'av. Molins de Rei)

URI:https://www.castellbisbal.cat/actualitat/agenda/el-cantir-punt-de-referencia.html
CLASS:PUBLIC
END:VEVENT
END:VCALENDAR
