BEGIN:VCALENDAR
VERSION:2.0
CALSCALE:GREGORIAN
PRODID:-//Diputació de Barcelona//DibaCMS//EN
BEGIN:VEVENT
UID:14903
DTSTAMP:20260423T230616
DTSTART:20220529T110000
DTEND:20220529T110000
SUMMARY:El Càntir: Moon Pamos
LOCATION:
METHOD:PUBLISH
X-WR-CALNAME:comunicacio@castellbisbal.cat
X-WR-TIMEZONE:Europe/Madrid
DESCRIPTION:A l'espai El Càntir (zona verda de l'av. Molins de Rei)

URI:https://www.castellbisbal.cat/actualitat/agenda/el-cantir-moon-pamos.html
CLASS:PUBLIC
END:VEVENT
END:VCALENDAR
