BEGIN:VCALENDAR
VERSION:2.0
CALSCALE:GREGORIAN
PRODID:-//Diputació de Barcelona//DibaCMS//EN
BEGIN:VEVENT
UID:14904
DTSTAMP:20260423T231813
DTSTART:20220529T110000
DTEND:20220529T110000
SUMMARY:El Càntir: Fundació Vicente Ferrer, Plantes i flors i taller de flors
LOCATION:Zona verda de l'av. Molins de Rei 
METHOD:PUBLISH
X-WR-CALNAME:comunicacio@castellbisbal.cat
X-WR-TIMEZONE:Europe/Madrid
DESCRIPTION:A l'espai El Càntir (zona verda de l'av. Molins de Rei)

URI:https://www.castellbisbal.cat/actualitat/agenda/el-cantir-fundacio-vicente-ferrer-plantes-i-flors-i-taller-de-flors.html
CLASS:PUBLIC
END:VEVENT
END:VCALENDAR
