BEGIN:VCALENDAR
VERSION:2.0
CALSCALE:GREGORIAN
PRODID:-//Diputació de Barcelona//DibaCMS//EN
BEGIN:VEVENT
UID:14907
DTSTAMP:20260423T052433
DTSTART:20220619T180000
DTEND:20220619T180000
SUMMARY:Ball de Sant Joan de la gent gran
LOCATION:Av. de Pau Casals, 16 08755 Castellbisbal
METHOD:PUBLISH
X-WR-CALNAME:comunicacio@castellbisbal.cat
X-WR-TIMEZONE:Europe/Madrid
DESCRIPTION:A l'Espai Foier d'Els Costals

URI:https://www.castellbisbal.cat/actualitat/agenda/ball-de-sant-joan-de-la-gent-gran.html
CLASS:PUBLIC
END:VEVENT
END:VCALENDAR
