BEGIN:VCALENDAR
VERSION:2.0
CALSCALE:GREGORIAN
PRODID:-//Diputació de Barcelona//DibaCMS//EN
BEGIN:VEVENT
UID:14909
DTSTAMP:20260423T115907
DTSTART:20220607T173000
DTEND:20220607T173000
SUMMARY:Contes menuts: "El millor regal"
LOCATION:Av. de Pau Casals, 16 08755 Castellbisbal
METHOD:PUBLISH
X-WR-CALNAME:comunicacio@castellbisbal.cat
X-WR-TIMEZONE:Europe/Madrid
DESCRIPTION:Dues sessions, a les 17.30 i a les 18.15 h, a la Biblioteca

URI:https://www.castellbisbal.cat/actualitat/agenda/biblioteca/contes-menuts-el-millor-regal.html
CLASS:PUBLIC
END:VEVENT
END:VCALENDAR
