BEGIN:VCALENDAR
VERSION:2.0
CALSCALE:GREGORIAN
PRODID:-//Diputació de Barcelona//DibaCMS//EN
BEGIN:VEVENT
UID:14915
DTSTAMP:20260424T000441
DTSTART:20220602T180000
DTEND:20220602T180000
SUMMARY:Esports a L'Illa Esportiva
LOCATION:C. Agricultura, s/n 08755 Castellbisbal
METHOD:PUBLISH
X-WR-CALNAME:comunicacio@castellbisbal.cat
X-WR-TIMEZONE:Europe/Madrid
DESCRIPTION:A L'Illa Esportiva

URI:https://www.castellbisbal.cat/actualitat/agenda/esports-a-lilla-esportiva.html
CLASS:PUBLIC
END:VEVENT
END:VCALENDAR
