BEGIN:VCALENDAR
VERSION:2.0
CALSCALE:GREGORIAN
PRODID:-//Diputació de Barcelona//DibaCMS//EN
BEGIN:VEVENT
UID:14916
DTSTAMP:20260423T083347
DTSTART:20220609T180000
DTEND:20220609T180000
SUMMARY:Torneig de tennis
LOCATION:C. Agricultura, s/n 08755 Castellbisbal
METHOD:PUBLISH
X-WR-CALNAME:comunicacio@castellbisbal.cat
X-WR-TIMEZONE:Europe/Madrid
DESCRIPTION:A L'Illa Esportiva

URI:https://www.castellbisbal.cat/actualitat/agenda/torneig-de-tennis.html
CLASS:PUBLIC
END:VEVENT
END:VCALENDAR
