BEGIN:VCALENDAR
VERSION:2.0
CALSCALE:GREGORIAN
PRODID:-//Diputació de Barcelona//DibaCMS//EN
BEGIN:VEVENT
UID:14917
DTSTAMP:20260423T021318
DTSTART:20220616T180000
DTEND:20220616T180000
SUMMARY:Cuinem!
LOCATION:Carrer Francesc Macià, 64 08755 Castellbisbal
METHOD:PUBLISH
X-WR-CALNAME:comunicacio@castellbisbal.cat
X-WR-TIMEZONE:Europe/Madrid
DESCRIPTION:Al Punt d'Informació Juvenil

URI:https://www.castellbisbal.cat/actualitat/agenda/cuinem.html
CLASS:PUBLIC
END:VEVENT
END:VCALENDAR
