BEGIN:VCALENDAR
VERSION:2.0
CALSCALE:GREGORIAN
PRODID:-//Diputació de Barcelona//DibaCMS//EN
BEGIN:VEVENT
UID:14919
DTSTAMP:20260423T084718
DTSTART:20220623T180000
DTEND:20220623T180000
SUMMARY:Torneig de ping pong
LOCATION:Carrer Francesc Macià, 64 08755 Castellbisbal
METHOD:PUBLISH
X-WR-CALNAME:comunicacio@castellbisbal.cat
X-WR-TIMEZONE:Europe/Madrid
DESCRIPTION:Espai Jove d'Els Costals

URI:https://www.castellbisbal.cat/actualitat/agenda/torneig-de-ping-pong.html
CLASS:PUBLIC
END:VEVENT
END:VCALENDAR
