BEGIN:VCALENDAR
VERSION:2.0
CALSCALE:GREGORIAN
PRODID:-//Diputació de Barcelona//DibaCMS//EN
BEGIN:VEVENT
UID:14922
DTSTAMP:20260425T034051
DTSTART:20220529T190000
DTEND:20220529T190000
SUMMARY:Concert teatralitzat: "Ja us he reconegut!"
LOCATION:Av. de Pau Casals 7 08755 Castellbisbal
METHOD:PUBLISH
X-WR-CALNAME:comunicacio@castellbisbal.cat
X-WR-TIMEZONE:Europe/Madrid
DESCRIPTION:Al Casal Cultural i Recreatiu

URI:https://www.castellbisbal.cat/actualitat/agenda/concert-teatralitzat-ja-us-he-reconegut.html
CLASS:PUBLIC
END:VEVENT
END:VCALENDAR
