BEGIN:VCALENDAR
VERSION:2.0
CALSCALE:GREGORIAN
PRODID:-//Diputació de Barcelona//DibaCMS//EN
BEGIN:VEVENT
UID:14925
DTSTAMP:20260425T021303
DTSTART:20220528T190000
DTEND:20220528T190000
SUMMARY:El Càntir: taller de pa i mocadors al cap
LOCATION:Zona verda de l'av. Molins de Rei 
METHOD:PUBLISH
X-WR-CALNAME:comunicacio@castellbisbal.cat
X-WR-TIMEZONE:Europe/Madrid
DESCRIPTION:A l'espai de consciència El Càntir (zona verda de l'av. Molins de Rei)

URI:https://www.castellbisbal.cat/actualitat/agenda/el-cantir-taller-de-pa-i-mocadors-al-cap.html
CLASS:PUBLIC
END:VEVENT
END:VCALENDAR
