BEGIN:VCALENDAR
VERSION:2.0
CALSCALE:GREGORIAN
PRODID:-//Diputació de Barcelona//DibaCMS//EN
BEGIN:VEVENT
UID:14948
DTSTAMP:20260423T023303
DTSTART:20220627T170000
DTEND:20220627T170000
SUMMARY:Taller: Fem un curtmetratge de ciència ficció
LOCATION:Carrer Francesc Macià, 64 08755 Castellbisbal
METHOD:PUBLISH
X-WR-CALNAME:comunicacio@castellbisbal.cat
X-WR-TIMEZONE:Europe/Madrid
DESCRIPTION:ANUL·LAT

URI:https://www.castellbisbal.cat/actualitat/agenda/taller-fem-un-curtmetratge-de-ciencia-ficcio.html
CLASS:PUBLIC
END:VEVENT
END:VCALENDAR
