BEGIN:VCALENDAR
VERSION:2.0
CALSCALE:GREGORIAN
PRODID:-//Diputació de Barcelona//DibaCMS//EN
BEGIN:VEVENT
UID:14955
DTSTAMP:20260423T170439
DTSTART:20220713T173000
DTEND:20220713T173000
SUMMARY:Taller de cuina saludable
LOCATION:Carrer Francesc Macià, 64 08755 Castellbisbal
METHOD:PUBLISH
X-WR-CALNAME:comunicacio@castellbisbal.cat
X-WR-TIMEZONE:Europe/Madrid
DESCRIPTION:A l'Espai Jove

URI:https://www.castellbisbal.cat/actualitat/agenda/taller-de-cuina-saludable.html
CLASS:PUBLIC
END:VEVENT
END:VCALENDAR
