BEGIN:VCALENDAR
VERSION:2.0
CALSCALE:GREGORIAN
PRODID:-//Diputació de Barcelona//DibaCMS//EN
BEGIN:VEVENT
UID:14956
DTSTAMP:20260423T154338
DTSTART:20220715T103000
DTEND:20220715T103000
SUMMARY:Taller de primers auxilis
LOCATION:Carrer Francesc Macià, 64 08755 Castellbisbal
METHOD:PUBLISH
X-WR-CALNAME:comunicacio@castellbisbal.cat
X-WR-TIMEZONE:Europe/Madrid
DESCRIPTION:A l'Espai Jove

URI:https://www.castellbisbal.cat/actualitat/agenda/14956-taller-de-primers-auxilis.html
CLASS:PUBLIC
END:VEVENT
END:VCALENDAR
