BEGIN:VCALENDAR
VERSION:2.0
CALSCALE:GREGORIAN
PRODID:-//Diputació de Barcelona//DibaCMS//EN
BEGIN:VEVENT
UID:14958
DTSTAMP:20260424T135723
DTSTART:20220718T180000
DTEND:20220718T180000
SUMMARY:Curs de manipuladors/ores d'aliments per a joves
LOCATION:Carrer Francesc Macià, 64 08755 Castellbisbal
METHOD:PUBLISH
X-WR-CALNAME:comunicacio@castellbisbal.cat
X-WR-TIMEZONE:Europe/Madrid
DESCRIPTION:A l'Espai Jove

URI:https://www.castellbisbal.cat/actualitat/agenda/curs-de-manipuladorsores-daliments-per-a-joves.html
CLASS:PUBLIC
END:VEVENT
END:VCALENDAR
