BEGIN:VCALENDAR
VERSION:2.0
CALSCALE:GREGORIAN
PRODID:-//Diputació de Barcelona//DibaCMS//EN
BEGIN:VEVENT
UID:14962
DTSTAMP:20260423T145623
DTSTART:20220709T090000
DTEND:20220709T090000
SUMMARY:9a Lan Party
LOCATION:Av. de Pau Casals, 16 08755 Castellbisbal
METHOD:PUBLISH
X-WR-CALNAME:comunicacio@castellbisbal.cat
X-WR-TIMEZONE:Europe/Madrid
DESCRIPTION:9 i 10 de juliol, a la sala d'exposicions d'Els costals

URI:https://www.castellbisbal.cat/actualitat/agenda/9a-lan-party.html
CLASS:PUBLIC
END:VEVENT
END:VCALENDAR
