BEGIN:VCALENDAR
VERSION:2.0
CALSCALE:GREGORIAN
PRODID:-//Diputació de Barcelona//DibaCMS//EN
BEGIN:VEVENT
UID:14967
DTSTAMP:20260424T061414
DTSTART:20220618T123000
DTEND:20220618T123000
SUMMARY:Presentació de l'exposició "Malalties minoritàries" amb Xavier Josa
LOCATION:Sant Joan núm. 1 08755 Castellbisbal
METHOD:PUBLISH
X-WR-CALNAME:comunicacio@castellbisbal.cat
X-WR-TIMEZONE:Europe/Madrid
DESCRIPTION:A l'Espai de la Plaça

URI:https://www.castellbisbal.cat/actualitat/agenda/presentacio-de-lexposicio-malalties-minoritaries-amb-xavier-josa.html
CLASS:PUBLIC
END:VEVENT
END:VCALENDAR
