BEGIN:VCALENDAR
VERSION:2.0
CALSCALE:GREGORIAN
PRODID:-//Diputació de Barcelona//DibaCMS//EN
BEGIN:VEVENT
UID:14969
DTSTAMP:20260423T184543
DTSTART:20220605T190000
DTEND:20220605T190000
SUMMARY:"Anastàsia"
LOCATION:Av. de Pau Casals 7 08755 Castellbisbal
METHOD:PUBLISH
X-WR-CALNAME:comunicacio@castellbisbal.cat
X-WR-TIMEZONE:Europe/Madrid
DESCRIPTION:Al Casal Cultural i Recreatiu

URI:https://www.castellbisbal.cat/actualitat/agenda/anastasia.html
CLASS:PUBLIC
END:VEVENT
END:VCALENDAR
