BEGIN:VCALENDAR
VERSION:2.0
CALSCALE:GREGORIAN
PRODID:-//Diputació de Barcelona//DibaCMS//EN
BEGIN:VEVENT
UID:14972
DTSTAMP:20260423T170538
DTSTART:20220604T100000
DTEND:20220604T200000
SUMMARY:Tallers, música i activitats a l'espai El Càntir
LOCATION:
METHOD:PUBLISH
X-WR-CALNAME:comunicacio@castellbisbal.cat
X-WR-TIMEZONE:Europe/Madrid
DESCRIPTION:A la zona verda de l'avinguda Molins de Rei

URI:https://www.castellbisbal.cat/actualitat/agenda/tallers-musica-i-activitats-a-lespai-el-cantir.html
CLASS:PUBLIC
END:VEVENT
END:VCALENDAR
