BEGIN:VCALENDAR
VERSION:2.0
CALSCALE:GREGORIAN
PRODID:-//Diputació de Barcelona//DibaCMS//EN
BEGIN:VEVENT
UID:14973
DTSTAMP:20260425T004258
DTSTART:20220605T180000
DTEND:20220605T180000
SUMMARY:Música i activitats a l'espai El Càntir
LOCATION:
METHOD:PUBLISH
X-WR-CALNAME:comunicacio@castellbisbal.cat
X-WR-TIMEZONE:Europe/Madrid
DESCRIPTION:A la zona verda de l'avinguda Molins de Rei

URI:https://www.castellbisbal.cat/actualitat/agenda/musica-i-activitats-a-lespai-el-cantir.html
CLASS:PUBLIC
END:VEVENT
END:VCALENDAR
