BEGIN:VCALENDAR
VERSION:2.0
CALSCALE:GREGORIAN
PRODID:-//Diputació de Barcelona//DibaCMS//EN
BEGIN:VEVENT
UID:14974
DTSTAMP:20260424T074741
DTSTART:20220607T000000
DTEND:20220622T000000
SUMMARY:Exposició: Nous habitants a l'Arxiu
LOCATION:Av. de Pau Casals 9 08755 Castellbisbal
METHOD:PUBLISH
X-WR-CALNAME:comunicacio@castellbisbal.cat
X-WR-TIMEZONE:Europe/Madrid
DESCRIPTION:Al vestíbul de l'Ajuntament de Castellbisbal

URI:https://www.castellbisbal.cat/actualitat/agenda/exposicio-nous-habitants-a-larxiu.html
CLASS:PUBLIC
END:VEVENT
END:VCALENDAR
