BEGIN:VCALENDAR
VERSION:2.0
CALSCALE:GREGORIAN
PRODID:-//Diputació de Barcelona//DibaCMS//EN
BEGIN:VEVENT
UID:14976
DTSTAMP:20260424T121951
DTSTART:20220605T120000
DTEND:20220605T120000
SUMMARY:Jugatecambiental: "Safari fotogràfic"
LOCATION:Parc de l'Ermita 08755 Castellbisbal
METHOD:PUBLISH
X-WR-CALNAME:comunicacio@castellbisbal.cat
X-WR-TIMEZONE:Europe/Madrid
DESCRIPTION:A les 12.00 hores, a la zona verda que hi ha just a sota del parc de l'Ermita

URI:https://www.castellbisbal.cat/actualitat/agenda/jugatecambiental-safari-fotografic.html
CLASS:PUBLIC
END:VEVENT
END:VCALENDAR
