BEGIN:VCALENDAR
VERSION:2.0
CALSCALE:GREGORIAN
PRODID:-//Diputació de Barcelona//DibaCMS//EN
BEGIN:VEVENT
UID:14978
DTSTAMP:20260423T195122
DTSTART:20220610T183000
DTEND:20220610T183000
SUMMARY:Espectacle musical: "Frens (amb o sense)"
LOCATION:Av. de Pau Casals, 16 08755 Castellbisbal
METHOD:PUBLISH
X-WR-CALNAME:comunicacio@castellbisbal.cat
X-WR-TIMEZONE:Europe/Madrid
DESCRIPTION:A l'auditori d'Els Costals

URI:https://www.castellbisbal.cat/actualitat/agenda/espectacle-musical-frens-amb-o-sense.html
CLASS:PUBLIC
END:VEVENT
END:VCALENDAR
