BEGIN:VCALENDAR
VERSION:2.0
CALSCALE:GREGORIAN
PRODID:-//Diputació de Barcelona//DibaCMS//EN
BEGIN:VEVENT
UID:14979
DTSTAMP:20260424T204625
DTSTART:20220610T200000
DTEND:20220610T200000
SUMMARY:Solistes en concert
LOCATION:Av. de Pau Casals, 16 08755 Castellbisbal
METHOD:PUBLISH
X-WR-CALNAME:comunicacio@castellbisbal.cat
X-WR-TIMEZONE:Europe/Madrid
DESCRIPTION:A l'auditori d'Els Costals

URI:https://www.castellbisbal.cat/actualitat/agenda/14979-solistes-en-concert.html
CLASS:PUBLIC
END:VEVENT
END:VCALENDAR
