BEGIN:VCALENDAR
VERSION:2.0
CALSCALE:GREGORIAN
PRODID:-//Diputació de Barcelona//DibaCMS//EN
BEGIN:VEVENT
UID:14996
DTSTAMP:20260424T002843
DTSTART:20220619T190000
DTEND:20220619T190000
SUMMARY:Màgia i comèdia
LOCATION:Av. de Pau Casals 7 08755 Castellbisbal
METHOD:PUBLISH
X-WR-CALNAME:comunicacio@castellbisbal.cat
X-WR-TIMEZONE:Europe/Madrid
DESCRIPTION:Al Casal Cultural i Recreatiu

URI:https://www.castellbisbal.cat/actualitat/agenda/magia-i-comedia.html
CLASS:PUBLIC
END:VEVENT
END:VCALENDAR
