BEGIN:VCALENDAR
VERSION:2.0
CALSCALE:GREGORIAN
PRODID:-//Diputació de Barcelona//DibaCMS//EN
BEGIN:VEVENT
UID:15006
DTSTAMP:20260423T111402
DTSTART:20220704T163000
DTEND:20220704T163000
SUMMARY:Taller: Fem un curtmetratge de ciència ficció
LOCATION:Carrer Francesc Macià, 64 08755 Castellbisbal
METHOD:PUBLISH
X-WR-CALNAME:comunicacio@castellbisbal.cat
X-WR-TIMEZONE:Europe/Madrid
DESCRIPTION:ANUL·LAT

URI:https://www.castellbisbal.cat/actualitat/agenda/15006-taller-fem-un-curtmetratge-de-ciencia-ficcio.html
CLASS:PUBLIC
END:VEVENT
END:VCALENDAR
