BEGIN:VCALENDAR
VERSION:2.0
CALSCALE:GREGORIAN
PRODID:-//Diputació de Barcelona//DibaCMS//EN
BEGIN:VEVENT
UID:15011
DTSTAMP:20260423T140302
DTSTART:20220705T180000
DTEND:20220705T180000
SUMMARY:Iniciació al dibuix i sketchbook
LOCATION:Carrer Francesc Macià, 64 08755 Castellbisbal
METHOD:PUBLISH
X-WR-CALNAME:comunicacio@castellbisbal.cat
X-WR-TIMEZONE:Europe/Madrid
DESCRIPTION:A l'Espai Jove

URI:https://www.castellbisbal.cat/actualitat/agenda/15011-iniciacio-al-dibuix-i-sketchbook.html
CLASS:PUBLIC
END:VEVENT
END:VCALENDAR
