BEGIN:VCALENDAR
VERSION:2.0
CALSCALE:GREGORIAN
PRODID:-//Diputació de Barcelona//DibaCMS//EN
BEGIN:VEVENT
UID:15020
DTSTAMP:20260423T185847
DTSTART:20220708T103000
DTEND:20220708T103000
SUMMARY:Curs de premonitors/ores
LOCATION:Carrer Francesc Macià, 64 08755 Castellbisbal
METHOD:PUBLISH
X-WR-CALNAME:comunicacio@castellbisbal.cat
X-WR-TIMEZONE:Europe/Madrid
DESCRIPTION:A l'Espai Jove

URI:https://www.castellbisbal.cat/actualitat/agenda/15020-curs-de-premonitorsores.html
CLASS:PUBLIC
END:VEVENT
END:VCALENDAR
