BEGIN:VCALENDAR
VERSION:2.0
CALSCALE:GREGORIAN
PRODID:-//Diputació de Barcelona//DibaCMS//EN
BEGIN:VEVENT
UID:15024
DTSTAMP:20260423T133250
DTSTART:20220708T110000
DTEND:20220708T110000
SUMMARY:Curs de programació
LOCATION:Carrer Francesc Macià, 64 08755 Castellbisbal
METHOD:PUBLISH
X-WR-CALNAME:comunicacio@castellbisbal.cat
X-WR-TIMEZONE:Europe/Madrid
DESCRIPTION:Al Punt d'Informació Juvenil

URI:https://www.castellbisbal.cat/actualitat/agenda/15024-curs-de-programacio.html
CLASS:PUBLIC
END:VEVENT
END:VCALENDAR
