BEGIN:VCALENDAR
VERSION:2.0
CALSCALE:GREGORIAN
PRODID:-//Diputació de Barcelona//DibaCMS//EN
BEGIN:VEVENT
UID:15031
DTSTAMP:20260423T135839
DTSTART:20220721T093000
DTEND:20220721T093000
SUMMARY:Curs d'introducció a la llengua de signes catalana (mòdul B)
LOCATION:Carrer Francesc Macià, 64 08755 Castellbisbal
METHOD:PUBLISH
X-WR-CALNAME:comunicacio@castellbisbal.cat
X-WR-TIMEZONE:Europe/Madrid
DESCRIPTION:ANUL·LAT

URI:https://www.castellbisbal.cat/actualitat/agenda/15031-curs-dintroduccio-a-la-llengua-de-signes-catalana-modul-b.html
CLASS:PUBLIC
END:VEVENT
END:VCALENDAR
