BEGIN:VCALENDAR
VERSION:2.0
CALSCALE:GREGORIAN
PRODID:-//Diputació de Barcelona//DibaCMS//EN
BEGIN:VEVENT
UID:15034
DTSTAMP:20260423T021127
DTSTART:20220727T090000
DTEND:20220727T090000
SUMMARY:Curs d'impressió 3D
LOCATION:Av. de Pau Casals, 16 08755 Castellbisbal
METHOD:PUBLISH
X-WR-CALNAME:comunicacio@castellbisbal.cat
X-WR-TIMEZONE:Europe/Madrid
DESCRIPTION:A l'aula multimèdia d'Els Costals

URI:https://www.castellbisbal.cat/actualitat/agenda/15034-curs-dimpressio-3d.html
CLASS:PUBLIC
END:VEVENT
END:VCALENDAR
