BEGIN:VCALENDAR
VERSION:2.0
CALSCALE:GREGORIAN
PRODID:-//Diputació de Barcelona//DibaCMS//EN
BEGIN:VEVENT
UID:15038
DTSTAMP:20260423T122530
DTSTART:20220727T100000
DTEND:20220727T100000
SUMMARY:Curs: Agents de salut
LOCATION:Carrer Francesc Macià, 64 08755 Castellbisbal
METHOD:PUBLISH
X-WR-CALNAME:comunicacio@castellbisbal.cat
X-WR-TIMEZONE:Europe/Madrid
DESCRIPTION:ANUL·LAT

URI:https://www.castellbisbal.cat/actualitat/agenda/15038-curs-agents-de-salut.html
CLASS:PUBLIC
END:VEVENT
END:VCALENDAR
