BEGIN:VCALENDAR
VERSION:2.0
CALSCALE:GREGORIAN
PRODID:-//Diputació de Barcelona//DibaCMS//EN
BEGIN:VEVENT
UID:15051
DTSTAMP:20260425T022825
DTSTART:20220628T180000
DTEND:20220628T180000
SUMMARY:Tria la teva ruta per alliberar-nos dels armaris
LOCATION:08755 Castellbisbal
METHOD:PUBLISH
X-WR-CALNAME:comunicacio@castellbisbal.cat
X-WR-TIMEZONE:Europe/Madrid
DESCRIPTION:A la Plaça de l'Església

URI:https://www.castellbisbal.cat/actualitat/agenda/tria-la-teva-ruta-per-alliberar-nos-dels-armaris.html
CLASS:PUBLIC
END:VEVENT
END:VCALENDAR
