BEGIN:VCALENDAR
VERSION:2.0
CALSCALE:GREGORIAN
PRODID:-//Diputació de Barcelona//DibaCMS//EN
BEGIN:VEVENT
UID:15052
DTSTAMP:20260424T202715
DTSTART:20220622T170000
DTEND:20220622T170000
SUMMARY:Concert de final de curs de l'Escola de Música
LOCATION:08755 Castellbisbal
METHOD:PUBLISH
X-WR-CALNAME:comunicacio@castellbisbal.cat
X-WR-TIMEZONE:Europe/Madrid
DESCRIPTION:A la Plaça de l'Església

URI:https://www.castellbisbal.cat/actualitat/agenda/15052-concert-de-final-de-curs-de-lescola-de-musica.html
CLASS:PUBLIC
END:VEVENT
END:VCALENDAR
