BEGIN:VCALENDAR
VERSION:2.0
CALSCALE:GREGORIAN
PRODID:-//Diputació de Barcelona//DibaCMS//EN
BEGIN:VEVENT
UID:15053
DTSTAMP:20260423T041055
DTSTART:20220630T193000
DTEND:20220630T193000
SUMMARY:Celebració dels 10 anys d'ANC Castellbisbal
LOCATION:Plaça de l'Església 08755 Castellbisbal
METHOD:PUBLISH
X-WR-CALNAME:comunicacio@castellbisbal.cat
X-WR-TIMEZONE:Europe/Madrid
DESCRIPTION:Al Pati de l'Esbarjo

URI:https://www.castellbisbal.cat/actualitat/agenda/celebracio-dels-10-anys-danc-castellbisbal.html
CLASS:PUBLIC
END:VEVENT
END:VCALENDAR
