BEGIN:VCALENDAR
VERSION:2.0
CALSCALE:GREGORIAN
PRODID:-//Diputació de Barcelona//DibaCMS//EN
BEGIN:VEVENT
UID:15054
DTSTAMP:20260424T163303
DTSTART:20220709T184500
DTEND:20220709T184500
SUMMARY:14è Aplec de sardanes
LOCATION:08755 Castellbisbal
METHOD:PUBLISH
X-WR-CALNAME:comunicacio@castellbisbal.cat
X-WR-TIMEZONE:Europe/Madrid
DESCRIPTION:A la Plaça de l'Església

URI:https://www.castellbisbal.cat/actualitat/agenda/14e-aplec-de-sardanes.html
CLASS:PUBLIC
END:VEVENT
END:VCALENDAR
