BEGIN:VCALENDAR
VERSION:2.0
CALSCALE:GREGORIAN
PRODID:-//Diputació de Barcelona//DibaCMS//EN
BEGIN:VEVENT
UID:15056
DTSTAMP:20260424T163237
DTSTART:20220708T220000
DTEND:20220708T220000
SUMMARY:Capsa de Música: País petit, La Gira
LOCATION:08755 Castellbisbal
METHOD:PUBLISH
X-WR-CALNAME:comunicacio@castellbisbal.cat
X-WR-TIMEZONE:Europe/Madrid
DESCRIPTION:Als Jardins de Can Margarit

URI:https://www.castellbisbal.cat/actualitat/agenda/capsa-de-musica-pais-petit-la-gira.html
CLASS:PUBLIC
END:VEVENT
END:VCALENDAR
