BEGIN:VCALENDAR
VERSION:2.0
CALSCALE:GREGORIAN
PRODID:-//Diputació de Barcelona//DibaCMS//EN
BEGIN:VEVENT
UID:15058
DTSTAMP:20260423T023326
DTSTART:20220722T220000
DTEND:20220722T220000
SUMMARY:Capsa de Música: "Lorca" amb Joel Minguet
LOCATION:08755 Castellbisbal
METHOD:PUBLISH
X-WR-CALNAME:comunicacio@castellbisbal.cat
X-WR-TIMEZONE:Europe/Madrid
DESCRIPTION:Als Jardins de Can Margarit

URI:https://www.castellbisbal.cat/actualitat/agenda/capsa-de-musica-lorca-amb-joel-minguet.html
CLASS:PUBLIC
END:VEVENT
END:VCALENDAR
