BEGIN:VCALENDAR
VERSION:2.0
CALSCALE:GREGORIAN
PRODID:-//Diputació de Barcelona//DibaCMS//EN
BEGIN:VEVENT
UID:15064
DTSTAMP:20260423T133432
DTSTART:20220709T220000
DTEND:20220709T220000
SUMMARY:Impro con limón
LOCATION:Carrer Montjuic, 14-20 08755 Castellbisbal
METHOD:PUBLISH
X-WR-CALNAME:comunicacio@castellbisbal.cat
X-WR-TIMEZONE:Europe/Madrid
DESCRIPTION:A la terrassa del Centre Cívic de Can Santeugini

URI:https://www.castellbisbal.cat/actualitat/agenda/impro-con-limon.html
CLASS:PUBLIC
END:VEVENT
END:VCALENDAR
